BEGIN:VCALENDAR
VERSION:2.0
PRODID:-//Apollo Guest House - ECPv6.15.20//NONSGML v1.0//EN
CALSCALE:GREGORIAN
METHOD:PUBLISH
X-ORIGINAL-URL:https://apolloguesthouse.co.uk
X-WR-CALDESC:Events for Apollo Guest House
REFRESH-INTERVAL;VALUE=DURATION:PT1H
X-Robots-Tag:noindex
X-PUBLISHED-TTL:PT1H
BEGIN:VTIMEZONE
TZID:Europe/London
BEGIN:DAYLIGHT
TZOFFSETFROM:+0000
TZOFFSETTO:+0100
TZNAME:BST
DTSTART:20250330T010000
END:DAYLIGHT
BEGIN:STANDARD
TZOFFSETFROM:+0100
TZOFFSETTO:+0000
TZNAME:GMT
DTSTART:20251026T010000
END:STANDARD
BEGIN:DAYLIGHT
TZOFFSETFROM:+0000
TZOFFSETTO:+0100
TZNAME:BST
DTSTART:20260329T010000
END:DAYLIGHT
BEGIN:STANDARD
TZOFFSETFROM:+0100
TZOFFSETTO:+0000
TZNAME:GMT
DTSTART:20261025T010000
END:STANDARD
BEGIN:DAYLIGHT
TZOFFSETFROM:+0000
TZOFFSETTO:+0100
TZNAME:BST
DTSTART:20270328T010000
END:DAYLIGHT
BEGIN:STANDARD
TZOFFSETFROM:+0100
TZOFFSETTO:+0000
TZNAME:GMT
DTSTART:20271031T010000
END:STANDARD
END:VTIMEZONE
BEGIN:VEVENT
DTSTART;TZID=Europe/London:20260501T000000
DTEND;TZID=Europe/London:20260504T235959
DTSTAMP:20260419T155124
CREATED:20230506T114501Z
LAST-MODIFIED:20260418T184522Z
UID:637-1777593600-1777939199@apolloguesthouse.co.uk
SUMMARY:Jack In The Green
DESCRIPTION:Home » Events » Cultural & Traditional Events\n\n\n\n\n\n\n\n\nJack in the Green is a traditional May Day celebration that began in England\, especially in southern counties such as Sussex and Kent. This vibrant event blends ancient pagan customs with later Christian traditions. \nHastings hosts the largest festival of its kind in the country. It usually takes place on the first weekend of May and draws crowds of locals and visitors. The towering Jack in the Green figure leads the parade\, covered in lush greenery. Morris dancers\, musicians and revellers adorned in fresh foliage accompany him through the streets. \nA unique feature of the Hastings celebration is the “Rising of the Jack.” On the morning of May Day\, performers “awaken” the effigy during a ceremony at the Fishermen’s Museum. Enthusiastic onlookers attend the ritual\, which signals the start of the day’s festivities. \nAt its core\, the festival celebrates the arrival of spring and the renewal of nature. London milkmaids and chimney sweeps likely began the Jack in the Green tradition in the 17th century. The central figure resembles a walking tree or bush and musicians\, dancers and revelers follow him in the procession. People often link Jack in the Green with the Green Man\, a symbol of rebirth and growth. \n  \nThis is an extremely popular event so please BOOK YOUR ACCOMMODATION EARLY to avoid disappointment. \nPlease check dates & times of events with the organisers.We cannot be held responsible for alteration or cancellation of any events.
URL:https://apolloguesthouse.co.uk/events/jack-in-the-green/
LOCATION:Old Town\, Hastings\, East Sussex\, TN34 3AS
CATEGORIES:Cultural & Traditional Events
ATTACH;FMTTYPE=image/png:https://apolloguesthouse.co.uk/wp-content/uploads/2023/05/Jack-in-the-Green-1-e1770640926348.png
END:VEVENT
BEGIN:VEVENT
DTSTART;TZID=Europe/London:20260504T000000
DTEND;TZID=Europe/London:20260504T235959
DTSTAMP:20260419T155124
CREATED:20230506T114119Z
LAST-MODIFIED:20260418T202524Z
UID:633-1777852800-1777939199@apolloguesthouse.co.uk
SUMMARY:Famous May Day Motorbike Run
DESCRIPTION:Home » Events » Cultural & Traditional Events\n\n\n\n\n\n\n\n\nThe Famous May Day Motorbike Run to Hastings is an annual event full of tradition and adrenaline. Held on the first Monday of May\, it draws motorbike enthusiasts from across the United Kingdom and beyond. Riders celebrate the open road\, the camaraderie of the biking community and the enduring spirit of freedom. \nDating back to the mid-1970s\, the May Day Run began as a small gathering of local bikers. It has since grown into a massive spectacle\, with thousands of participants revving their engines in anticipation. The scenic route from London to Hastings spans about 60 miles and winds through some of England’s most beautiful countryside. \nWhen riders reach Hastings\, the seafront fills with thousands of motorcycles. The entire promenade becomes an open‑air showcase of bikes\, from vintage classics to modern machines. \n\nThis is an extremely popular event so please BOOK YOUR ACCOMMODATION EARLY to avoid disappointment. \nPlease check dates & times of events with the organisers.We cannot be held responsible for alteration or cancellation of any events.
URL:https://apolloguesthouse.co.uk/events/famous-may-day-motorbike-run/
LOCATION:Seafront\, Hastings\, East Sussex\, TN34 1
CATEGORIES:Cultural & Traditional Events
ATTACH;FMTTYPE=image/png:https://apolloguesthouse.co.uk/wp-content/uploads/2023/05/Mat-Day-Bikes-e1770625848700.png
END:VEVENT
BEGIN:VEVENT
DTSTART;TZID=Europe/London:20260718T000000
DTEND;TZID=Europe/London:20260719T235959
DTSTAMP:20260419T155124
CREATED:20230506T103708Z
LAST-MODIFIED:20260418T170858Z
UID:498-1784332800-1784505599@apolloguesthouse.co.uk
SUMMARY:Hastings Pirates Day
DESCRIPTION:Home » Events » Cultural & Traditional Events\n\n\n\n\n\n\n\n\nHastings Pirates Day is a vibrant\, exhilarating event that transforms the historic seaside town of Hastings\, UK\, into a swashbuckling haven. \nThis annual summer extravaganza draws crowds of enthusiastic buccaneers\, families\, and history lovers\, all eager to enjoy a day of high-seas fun. \nThe heart of Hastings Pirates Day lies in the spirited dress code. Pirates of all ages fill the streets\, wearing eye patches\, tricorn hats\, billowing shirts\, and jangling belts. The atmosphere is electric\, alive with shouts of “Arrr!” and the clank of cutlasses. Locals and visitors alike embrace their inner swashbuckler. \nThroughout the weekend\, the town becomes a bustling pirate haven. Stalls line the streets\, offering trinkets\, costumes and pirate-themed treats. Families can join a treasure hunt\, solving riddles and clues scattered around the town to find hidden booty. \nHastings Pirates Day celebrates maritime history and the enduring appeal of swashbuckling adventure. It brings together the community and visitors in a shared love for high-seas escapades. For both young and old\, it is a day to leave reality behind and embrace the thrilling spirit of piracy.
URL:https://apolloguesthouse.co.uk/events/hastings-pirates-day/
LOCATION:Hastings\, East Sussex\, TN34 1
CATEGORIES:Cultural & Traditional Events
ATTACH;FMTTYPE=image/png:https://apolloguesthouse.co.uk/wp-content/uploads/2023/05/Pirates-Day-e1770672971120.png
END:VEVENT
BEGIN:VEVENT
DTSTART;TZID=Europe/London:20260801T000000
DTEND;TZID=Europe/London:20260810T235959
DTSTAMP:20260419T155124
CREATED:20230506T105215Z
LAST-MODIFIED:20260418T170750Z
UID:523-1785542400-1786406399@apolloguesthouse.co.uk
SUMMARY:Hastings Old Town Carnival Week
DESCRIPTION:Home » Events » Cultural & Traditional Events\n\n\n\n\n\n\n\n\nHastings Old Town Carnival Week takes place every summer in the Old Town of Hastings\, East Sussex. \nThe carnival week usually happens during the first week of August. Winkle Island officially opens the celebrations. During the week\, organisers host concerts\, street parties\, charity races and Morris dancing. Participants join the Old Town Carnival procession\, which features floats\, dancers\, majorettes and marching bands. The evening ends with a firework display. \nThe carnival began in 1968. Old Town residents felt that the original Hastings Carnival should have included the Old Town in its route\, so they created their own event. Over time\, the Old Town carnival grew bigger and more popular\, while the Hastings carnival declined and eventually stopped. As a parting gesture\, the organisers gave the Carnival Queen the title “Miss Hastings.” In 2018\, they rebranded the Carnival Court as the Sea Court and added a King\, who holds the title “Mr Hastings.” \nThe week concludes with a spectacular firework display over the waters of the English Channel. Bright colours fill the night sky and reflect on the sea. The display impresses both first-time visitors and long-time carnival fans.
URL:https://apolloguesthouse.co.uk/events/hastings-old-town-carnival-week/
LOCATION:Old Town\, Hastings\, East Sussex\, TN34 3AS
CATEGORIES:Cultural & Traditional Events
ATTACH;FMTTYPE=image/jpeg:https://apolloguesthouse.co.uk/wp-content/uploads/2023/05/Hastings-Carnival-e1770503532441.jpg
END:VEVENT
BEGIN:VEVENT
DTSTART;TZID=Europe/London:20260831T000000
DTEND;TZID=Europe/London:20260831T235959
DTSTAMP:20260419T155124
CREATED:20240601T212506Z
LAST-MODIFIED:20260418T170018Z
UID:3559-1788134400-1788220799@apolloguesthouse.co.uk
SUMMARY:Bexhill 100 Classic & Custom Car Show
DESCRIPTION:Home » Events » Cultural & Traditional Events\n\n\n\n\n\n\n\n\nThe Bexhill 100 Classic & Custom Car Show takes place each year at Polegrove Recreation Ground in Bexhill-on-Sea. The town earned its place in motoring history as the birthplace of British motor racing in 1902. \nThe event celebrates Bexhill’s rich motoring heritage. It showcases an impressive collection of classic and custom cars. Visitors can admire beautifully restored vintage vehicles that highlight the craftsmanship and design of earlier automotive eras. \nCar enthusiasts travel from across the region to attend the show. Each vehicle tells its own story and reflects the lasting appeal of classic motoring. \nThe Bexhill 100 also offers a wide range of entertainment. Live music keeps the atmosphere lively throughout the day. Food stalls serve a variety of tasty treats and trade stands sell car memorabilia and accessories. \nJudges award prizes to outstanding vehicles in several categories. Owners proudly display their cars and share their passion with visitors. \nThe event organisers donate proceeds to local charities\, which helps support the wider community. The Bexhill 100 is a must-visit event for car enthusiasts and anyone who enjoys a lively community day out. \n  \nThe car show is a paid-for event. \nPlease check dates & times of events with the organisers.We cannot be held responsible for alteration or cancellation of any events.
URL:https://apolloguesthouse.co.uk/events/bexhill-100-classic-custom-car-show/
LOCATION:The Polegrove\, Brockley Road\, Bexhill-on-sea\, East Sussex\, TN39 3DP
CATEGORIES:Cultural & Traditional Events
ATTACH;FMTTYPE=image/png:https://apolloguesthouse.co.uk/wp-content/uploads/2024/06/Bexhill-100-e1770636896364.png
END:VEVENT
BEGIN:VEVENT
DTSTART;TZID=Europe/London:20261010T000000
DTEND;TZID=Europe/London:20261018T235959
DTSTAMP:20260419T155124
CREATED:20230506T120939Z
LAST-MODIFIED:20260418T164941Z
UID:656-1791590400-1792367999@apolloguesthouse.co.uk
SUMMARY:Hastings Week
DESCRIPTION:Home » Events » Cultural & Traditional Events\n\n\n\n\n\n\n\n\nHastings Week is an annual celebration in the historic town of Hastings. This vibrant event honours the town’s rich history\, dating back to 1066 when the famous Battle of Hastings took place. Events run all week\, with a massive bonfire and fireworks display on Saturday 17th. \nThe weekend of 10th–11th October features the Classic Car Show at the Stade Open Space. By Friday\, the vintage and classic motorcycle show rolls into town\, including a fish and chip run. For a more relaxed experience\, join one of the many guided heritage and history walks\, such as a tour of the Stade Fishing Quarter. \nThe highlight of the week is the re-enactment of the Battle of Hastings\, which occurred on 14th October 1066. This pivotal battle marked the Norman conquest of England and changed British history forever. History enthusiasts\, actors and curious onlookers gather to watch this dramatic portrayal. Participants in authentic period attire bring the battlefield to life\, showing the strategies and challenges faced by both Norman and Saxon forces.
URL:https://apolloguesthouse.co.uk/events/hastings-week/
LOCATION:Hastings\, East Sussex\, TN34 1
CATEGORIES:Cultural & Traditional Events
ATTACH;FMTTYPE=image/png:https://apolloguesthouse.co.uk/wp-content/uploads/2023/05/Hastings-Week-e1770667986781.png
END:VEVENT
BEGIN:VEVENT
DTSTART;TZID=Europe/London:20261017T190000
DTEND;TZID=Europe/London:20261017T220000
DTSTAMP:20260419T155124
CREATED:20230506T120533Z
LAST-MODIFIED:20260419T062816Z
UID:652-1792263600-1792274400@apolloguesthouse.co.uk
SUMMARY:Hastings Bonfire
DESCRIPTION:Home » Events » Cultural & Traditional Events\n\n\n\n\n\n\n\n\nHastings Borough Bonfire Society’s Torchlit Procession and Fireworks – Saturday 17th October 2026. \nBonfire societies from all over Sussex march through the streets of Hastings in a procession of drums\, flares and flaming torchlights. Spectators will see a huge bonfire on the beach\, watch the effigy burn and enjoy a spectacular firework display. The event commemorates the Battle of Hastings and celebrates the traditional Gunpowder Plot of 1605. \nThe procession starts from the America Ground at the sea end of Robertson Street. It follows a route along the seafront to Marine Parade\, passes up All Saints Street\, goes down the High Street and then returns along the seafront to the bonfire site opposite Pelham Crescent. \nThis is a free\, no-ticket event made possible by the hard work and determination of HBBS volunteers. Hastings Bonfire relies on volunteers and their fundraising efforts throughout the year. Don’t forget to bring your pennies for the collection buckets to help ensure the event continues in the future. \n  \nThis is an extremely popular event so please BOOK YOUR ACCOMMODATION EARLY to avoid disappointment. \nPlease check dates & times of events with the organisers. \nWe cannot be held responsible for alteration or cancellation of any events.
URL:https://apolloguesthouse.co.uk/events/hastings-bonfire/
LOCATION:Seafront\, Hastings\, East Sussex\, TN34 1
CATEGORIES:Cultural & Traditional Events
ATTACH;FMTTYPE=image/png:https://apolloguesthouse.co.uk/wp-content/uploads/2023/05/HBS-Logo-1-e1770675457107.png
END:VEVENT
END:VCALENDAR