BEGIN:VCALENDAR
VERSION:2.0
PRODID:-//Apollo Guest House - ECPv6.15.20//NONSGML v1.0//EN
CALSCALE:GREGORIAN
METHOD:PUBLISH
X-ORIGINAL-URL:https://apolloguesthouse.co.uk
X-WR-CALDESC:Events for Apollo Guest House
REFRESH-INTERVAL;VALUE=DURATION:PT1H
X-Robots-Tag:noindex
X-PUBLISHED-TTL:PT1H
BEGIN:VTIMEZONE
TZID:Europe/London
BEGIN:DAYLIGHT
TZOFFSETFROM:+0000
TZOFFSETTO:+0100
TZNAME:BST
DTSTART:20240331T010000
END:DAYLIGHT
BEGIN:STANDARD
TZOFFSETFROM:+0100
TZOFFSETTO:+0000
TZNAME:GMT
DTSTART:20241027T010000
END:STANDARD
BEGIN:DAYLIGHT
TZOFFSETFROM:+0000
TZOFFSETTO:+0100
TZNAME:BST
DTSTART:20250330T010000
END:DAYLIGHT
BEGIN:STANDARD
TZOFFSETFROM:+0100
TZOFFSETTO:+0000
TZNAME:GMT
DTSTART:20251026T010000
END:STANDARD
BEGIN:DAYLIGHT
TZOFFSETFROM:+0000
TZOFFSETTO:+0100
TZNAME:BST
DTSTART:20260329T010000
END:DAYLIGHT
BEGIN:STANDARD
TZOFFSETFROM:+0100
TZOFFSETTO:+0000
TZNAME:GMT
DTSTART:20261025T010000
END:STANDARD
BEGIN:DAYLIGHT
TZOFFSETFROM:+0000
TZOFFSETTO:+0100
TZNAME:BST
DTSTART:20270328T010000
END:DAYLIGHT
BEGIN:STANDARD
TZOFFSETFROM:+0100
TZOFFSETTO:+0000
TZNAME:GMT
DTSTART:20271031T010000
END:STANDARD
END:VTIMEZONE
BEGIN:VEVENT
DTSTART;TZID=Europe/London:20260322T000000
DTEND;TZID=Europe/London:20260322T235959
DTSTAMP:20260419T152929
CREATED:20240204T131610Z
LAST-MODIFIED:20260418T212819Z
UID:3364-1774137600-1774223999@apolloguesthouse.co.uk
SUMMARY:Hastings Half Marathon
DESCRIPTION:Home » Events » Sports & Competitions\n\n\n\n\n\n\n\n\nThe Hastings Half Marathon starting in 1985 and organised by The Hastings Lions Club\, the race has become quite popular over the last few years. This longstanding event has become a cherished tradition for runners over the past 4 decades. Embedded in local history\, it has evolved into a beloved fixture in the racing calendar. The race not only provides a challenging and inspiring experience for those engaged in springtime marathon training but also offers a unique and special racing encounter for participants seeking an enjoyable day out. \nThe race unfolds with a challenging first half\, followed by a downhill section in the latter part of the course\, culminating in a scenic seaside finish. This carefully crafted route ensures that runners not only face the physical demands of the race but also enjoy a memorable and enjoyable journey. The Hastings Half Marathon is the racing delight you’ve been looking for. \n  \nThis is an extremely popular event so please BOOK YOUR ACCOMMODATION EARLY to avoid disappointment. \nPlease check dates & times of events with the organisers. \nWe cannot be held responsible for alteration or cancellation of any events.
URL:https://apolloguesthouse.co.uk/events/hastings-half-marathon/
LOCATION:Grosvenor Gardens\, Sea Road\, St Leonards-on-Sea\, TN38 0BX
CATEGORIES:Sports & Competitions
ATTACH;FMTTYPE=image/png:https://apolloguesthouse.co.uk/wp-content/uploads/2024/02/Lions-Club-Logo-e1770637810520.png
END:VEVENT
BEGIN:VEVENT
DTSTART;TZID=Europe/London:20260301T000000
DTEND;TZID=Europe/London:20260301T235959
DTSTAMP:20260419T152929
CREATED:20260228T134510Z
LAST-MODIFIED:20260418T185557Z
UID:5877-1772323200-1772409599@apolloguesthouse.co.uk
SUMMARY:Hastings Open
DESCRIPTION:Home » Events » Sports & Competitions\n\n\n\n\n\n\n\n\nHastings Minigolf Club (formerly Planet Hastings Crazy Golf Club) will host the Hastings Open 2026 on Sunday 1st March at Hastings Adventure Golf in East Sussex. \nThe Hastings Open is the longest-running club open in British minigolf. It is one of the most prestigious tournaments on the UK minigolf calendar. Over the years\, it has crowned many top players\, including Hastings legends Ted McIver and the late Tim Davies. \nThe Open was previously contested across all three courses at Hastings Adventure Golf. It is now played exclusively on the Adventure Course\, a long and technically demanding layout on Hastings seafront. \nThe Adventure Course has evolved significantly and is widely regarded as one of the UK’s most challenging minigolf courses. It offers few holes-in-one but strongly rewards accuracy\, consistency\, and strategic putting. \nThe defending Open champion is current British No.1 Seve Kukielka. He also holds the Adventure Course record of 30\, set during last year’s Hastings Open. \n  \nThis is an extremely popular event so please BOOK YOUR ACCOMMODATION EARLY to avoid disappointment. \nPlease check dates & times of events with the organisers. \nWe cannot be held responsible for alteration or cancellation of any events.
URL:https://apolloguesthouse.co.uk/events/hastings-open/
LOCATION:Adventure Golf\, Pelham Place\, Hastings\, East Sussex\, TN34 3AJ
CATEGORIES:Sports & Competitions
ATTACH;FMTTYPE=image/png:https://apolloguesthouse.co.uk/wp-content/uploads/2026/02/Hastings-Open-e1772286556516.png
END:VEVENT
BEGIN:VEVENT
DTSTART;TZID=Europe/London:20260226T000000
DTEND;TZID=Europe/London:20260307T235959
DTSTAMP:20260419T152929
CREATED:20251211T180320Z
LAST-MODIFIED:20260418T185703Z
UID:4077-1772064000-1772927999@apolloguesthouse.co.uk
SUMMARY:Hastings International Piano Concerto Competition
DESCRIPTION:Home » Events » Sports & Competitions\n\n\n\n\n\n\n\n\nThe Hastings International Piano Concerto Competition (HIPCC) is one of the UK’s most distinctive contests for young pianists. It is especially known for its rare focus on concerto performance. \nEstablished in 2005\, the competition has grown from a local cultural initiative into a respected international event. Today it attracts gifted musicians from around the world. \nUnlike many piano competitions that centre on solo repertoire\, HIPCC places orchestral collaboration at its core. Competitors perform substantial concerto movements in each round. This gives them valuable early-career experience working with professional orchestras. \nThe competition has partnered with leading ensembles such as the Royal Philharmonic Orchestra and the London Mozart Players. These collaborations give participants a genuine taste of professional concerto performance. \nThis format tests more than technical excellence. It also challenges interpretation\, communication and the ability to perform confidently with a large ensemble. \nHosted at the White Rock Theatre in Hastings\, the event has become a cultural highlight for the town. It is also important for the wider East Sussex community. \nLocal audiences\, international visitors and classical music enthusiasts gather each year to support rising stars. They also enjoy high-level performances in a welcoming\, community-focused setting. \nToday\, the Hastings International Piano Concerto Competition remains a unique celebration of young talent\, community spirit and world-class music.
URL:https://apolloguesthouse.co.uk/events/hastings-international-piano-concerto-competition/
LOCATION:White Rock Theatre\, Hastings\, East Sussex\, TN34 1JX
CATEGORIES:Sports & Competitions
ATTACH;FMTTYPE=image/png:https://apolloguesthouse.co.uk/wp-content/uploads/2025/12/HIPCC-e1770669012629.png
END:VEVENT
BEGIN:VEVENT
DTSTART;TZID=Europe/London:20251228T000000
DTEND;TZID=Europe/London:20260105T235959
DTSTAMP:20260419T152929
CREATED:20230506T122347Z
LAST-MODIFIED:20260418T191846Z
UID:664-1766880000-1767657599@apolloguesthouse.co.uk
SUMMARY:Hastings International Chess Congress
DESCRIPTION:Home » Events » Sports & Competitions\n\n\n\n\n\n\n\n\nThe Caplin Hastings International Chess Congress celebrates its 99th edition this year. The event runs from 28th December to 5th January 2027. \nAs the world’s longest-running traditional chess congress\, this annual tournament is a highlight for the town. The main event is the Hastings Premier. This section traditionally featured 10 to 16 players in a round-robin format. Recent years have also seen the tournament use the knockout and Swiss systems. \nThe congress also includes a Challengers section open to all players. The winner earns an invitation to the following year’s Premier. The event typically attracts competitors from over thirty countries. In fact\, almost every World Champion except Bobby Fischer and Garry Kasparov has played here. \nThe Hastings Chess Club located at 2 Cornwallis Terrace\, was founded in 1882 and maintains deep roots in the community. With support from Hastings Borough Council\, the event brings global attention to our town. Spectators travel from as far as Singapore and New Zealand\, providing a great boost to local businesses. \nMake a strong move! Join us at the most historic chess congress in the world. \n \nWe offer discounted rates for the congress. See our special offers page for details.
URL:https://apolloguesthouse.co.uk/events/hastings-international-chess-congress/
LOCATION:Horntye Park Sports Complex\, Bohemia Rd\, Hastings\, East Sussex\, TN34 1EX
CATEGORIES:Sports & Competitions
ATTACH;FMTTYPE=image/png:https://apolloguesthouse.co.uk/wp-content/uploads/2023/05/Hastings-Chess-Congress-e1770673691586.png
END:VEVENT
END:VCALENDAR